BEGIN:VCALENDAR
VERSION:2.0
PRODID:-//Flair - ECPv5.1.0//NONSGML v1.0//EN
CALSCALE:GREGORIAN
METHOD:PUBLISH
X-WR-CALNAME:Flair
X-ORIGINAL-URL:https://www.flair.co.uk
X-WR-CALDESC:Events for Flair
BEGIN:VTIMEZONE
TZID:Europe/London
BEGIN:DAYLIGHT
TZOFFSETFROM:+0000
TZOFFSETTO:+0100
TZNAME:BST
DTSTART:20190331T010000
END:DAYLIGHT
BEGIN:STANDARD
TZOFFSETFROM:+0100
TZOFFSETTO:+0000
TZNAME:GMT
DTSTART:20191027T010000
END:STANDARD
END:VTIMEZONE
BEGIN:VEVENT
DTSTART;TZID=Europe/London:20190227T131500
DTEND;TZID=Europe/London:20190227T141500
DTSTAMP:20260419T134338
CREATED:20190211T161737Z
LAST-MODIFIED:20190214T103443Z
UID:13550-1551273300-1551276900@www.flair.co.uk
SUMMARY:Recruiters: prospering in a downturn
DESCRIPTION:Topic\nIn this Webinar I’ll be discussing with Wendy Merricks\, MD of Jumar\, how recruitment companies can prosper in a flat economy. \nThe signs are there: Brexit jitters; a growth slowdown in China and the EU and the rollercoaster that is the US economy. So\, it’s not a matter of “if” the economy will slow down but rather “when” – the trick is being able to make the most of it when it does. \nDuring the downturn of the early 2000s Wendy’s recruitment company was the winner in Deloittes Fast 50 awards on four occasions \nWhat will you learn?\nClearly\, it’s possible to prosper in more difficult trading conditions and Wendy is going to share with us how she did it. \nWe’ll be discussing 4 simple things you can do to not only protect your recruitment company but actually boost its growth. \nDon’t forget\, even if you can’t make it live\, just register and you’ll be sent a video copy of the webinar you can watch at your convenience. \n.fusion-button.button-1 {border-radius:25px;}.fusion-button.button-1 .fusion-button-text {text-transform:uppercase;}Register Now\n
URL:https://www.flair.co.uk/event/webinar-prospering-recruiters/
LOCATION:Online Webinar
CATEGORIES:Webinar
ORGANIZER;CN="Flair%20Business%20Growth%20Consultancy":MAILTO:letstalk@flair.co.uk
END:VEVENT
END:VCALENDAR