BEGIN:VCALENDAR
VERSION:2.0
PRODID:-//Flair - ECPv5.1.0//NONSGML v1.0//EN
CALSCALE:GREGORIAN
METHOD:PUBLISH
X-WR-CALNAME:Flair
X-ORIGINAL-URL:https://www.flair.co.uk
X-WR-CALDESC:Events for Flair
BEGIN:VTIMEZONE
TZID:Europe/London
BEGIN:DAYLIGHT
TZOFFSETFROM:+0000
TZOFFSETTO:+0100
TZNAME:BST
DTSTART:20180325T010000
END:DAYLIGHT
BEGIN:STANDARD
TZOFFSETFROM:+0100
TZOFFSETTO:+0000
TZNAME:GMT
DTSTART:20181028T010000
END:STANDARD
END:VTIMEZONE
BEGIN:VEVENT
DTSTART;TZID=Europe/London:20180221T090000
DTEND;TZID=Europe/London:20180221T093000
DTSTAMP:20260419T134458
CREATED:20180125T130050Z
LAST-MODIFIED:20180215T084819Z
UID:2018-1519203600-1519205400@www.flair.co.uk
SUMMARY:How to Start Making Business Videos (and why you should bother)
DESCRIPTION:\n\n\nVideo marketing is 5 times more likely to be believed than written\n59% of decision makers prefer video to written articles or blogs\n90% of buyers said that video helps them make purchasing decisions.\n\n  \nVideo Marketing is not hard\, it’s not expensive and it’s massively powerful. What are you waiting for – sign up and take that first step forward.\n.fusion-button.button-1 .fusion-button-text\, .fusion-button.button-1 i {color:#ff6600;}.fusion-button.button-1 .fusion-button-icon-divider{border-color:#ff6600;}.fusion-button.button-1:hover .fusion-button-text\, .fusion-button.button-1:hover i\,.fusion-button.button-1:focus .fusion-button-text\, .fusion-button.button-1:focus i\,.fusion-button.button-1:active .fusion-button-text\, .fusion-button.button-1:active{color:#ffa76d;}.fusion-button.button-1:hover .fusion-button-icon-divider\, .fusion-button.button-1:hover .fusion-button-icon-divider\, .fusion-button.button-1:active .fusion-button-icon-divider{border-color:#ffa76d;}.fusion-button.button-1:hover\, .fusion-button.button-1:focus\, .fusion-button.button-1:active{border-color:#ffa76d;border-width:2px;}.fusion-button.button-1 {border-color:#ff6600;border-width:2px;border-radius:2px;}.fusion-button.button-1{background: transparent;}.fusion-button.button-1:hover\,.button-1:focus\,.fusion-button.button-1:active{background: rgba(255\, 255\, 255\, 0.15);}Register to AttendWho should attend?\n\nIf you are curious about using videos in their business but are unsure how to start\nSomeone already playing around with business videos but want to step up their game.\nAnyone seeking new inspirations for their marketing and promotional activities\n\nWhat will it cover\n\nWe’ll sweep away many of the myths that surround video production.\nExplore the uses where video delivers a massive advantage over other mediums such as written.\nDiscuss the equipment you’ll need to make a start.\nLook at the common mistakes people make when producing business videos.\nSuggest how you can get the most out of your video when you’ve made it.\n\nThis is a live webinar so you are free to ask questions as we go through but we’ll also ask you for any questions you might have ahead of the event.\n\n
URL:https://www.flair.co.uk/event/how-to-start-video-marketing/
CATEGORIES:Webinar
ATTACH;FMTTYPE=image/png:https://www.flair.co.uk/wp-content/uploads/001-Video-Marketing.png
END:VEVENT
END:VCALENDAR