BEGIN:VCALENDAR
VERSION:2.0
PRODID:-//Flair - ECPv5.1.0//NONSGML v1.0//EN
CALSCALE:GREGORIAN
METHOD:PUBLISH
X-WR-CALNAME:Flair
X-ORIGINAL-URL:https://www.flair.co.uk
X-WR-CALDESC:Events for Flair
BEGIN:VTIMEZONE
TZID:Europe/London
BEGIN:DAYLIGHT
TZOFFSETFROM:+0000
TZOFFSETTO:+0100
TZNAME:BST
DTSTART:20180325T010000
END:DAYLIGHT
BEGIN:STANDARD
TZOFFSETFROM:+0100
TZOFFSETTO:+0000
TZNAME:GMT
DTSTART:20181028T010000
END:STANDARD
END:VTIMEZONE
BEGIN:VEVENT
DTSTART;TZID=Europe/London:20181211T121500
DTEND;TZID=Europe/London:20181211T130000
DTSTAMP:20260419T134242
CREATED:20180929T132341Z
LAST-MODIFIED:20181031T124310Z
UID:13071-1544530500-1544533200@www.flair.co.uk
SUMMARY:Email Opening Rates
DESCRIPTION:We all get too many emails\, so it doesn’t take much for us to press the DELETE rather than the OPEN button. \nBut email is a useful tool for the avid business developer so we must overcome this challenge. \nWell that’s what this webinar is all about. \nWe’re going to introduce a simple strategy made up of four steps to help more of your emails hit their mark. \nBTW you can also use the same strategy to get noticed in meetings or at events. I think you’ll find it a very useful little tool. \n.fusion-button.button-1 {border-radius:25px;}REGISTER HEREWe all get too many emails\, so it doesn’t take much for us to press the DELETE rather than the OPEN button. \nBut email is a useful tool for the avid business developer so we must overcome this challenge. \nWell that’s what this webinar is all about. \nWe’re going to introduce a simple strategy made up of four steps to help more of your emails hit their mark. \nBTW you can also use the same strategy to get noticed in meetings or at events. I think you’ll find it a very useful little tool. \n.fusion-button.button-2 {border-radius:25px;}REGISTER HERE\n
URL:https://www.flair.co.uk/event/boost-email-open-rates/
LOCATION:Online Webinar
ORGANIZER;CN="Flair%20Business%20Growth%20Consultancy":MAILTO:letstalk@flair.co.uk
END:VEVENT
END:VCALENDAR